BEGIN:VCALENDAR
VERSION:2.0
PRODID:-//Skovpavillonen//NONSGML kigkonsult.se iCalcreator 2.30.10//
CALSCALE:GREGORIAN
METHOD:PUBLISH
UID:e8710300-4e71-494c-821e-63cc5e3907e2
X-WR-CALNAME:iCagenda
X-WR-CALDESC:Event Management Extension for Joomla!
X-WR-RELCALID:3E26604A-50F4-4449-8B3E-E4F4932D05B5
X-WR-TIMEZONE:UTC
BEGIN:VTIMEZONE
TZID:UTC
END:VTIMEZONE
BEGIN:VEVENT
UID:a72ca547-aa4b-4f22-9d7f-02022a9e0719
DTSTAMP:20260419T133002Z
CATEGORIES:Arrangement
CLASS:PUBLIC
DESCRIPTION:
DTSTART:20260628T102600Z
DTEND:20260628T102600Z
GEO:00;0
LOCATION:
ORGANIZER:
SEQUENCE:1
SUMMARY:Mindernes boulevard
TRANSP:OPAQUE
URL:https://www.skovpavillonen-assens.dk/test-kalender/159-2612-mindernes-b
 oulevard
END:VEVENT
END:VCALENDAR
