BEGIN:VCALENDAR
VERSION:2.0
PRODID:-//Skovpavillonen//NONSGML kigkonsult.se iCalcreator 2.30.10//
CALSCALE:GREGORIAN
METHOD:PUBLISH
UID:b7f0c81f-5874-44bc-b56d-986e93f28c22
X-WR-CALNAME:iCagenda
X-WR-CALDESC:Event Management Extension for Joomla!
X-WR-RELCALID:3E26604A-50F4-4449-8B3E-E4F4932D05B5
X-WR-TIMEZONE:UTC
BEGIN:VTIMEZONE
TZID:UTC
END:VTIMEZONE
BEGIN:VEVENT
UID:953a8607-9650-47b0-9ede-83fc07d7da19
DTSTAMP:20260419T133938Z
CATEGORIES:Arrangement
CLASS:PUBLIC
DESCRIPTION:
DTSTART:20261121T100000Z
DTEND:20261121T235900Z
GEO:00;0
LOCATION:
ORGANIZER:
SEQUENCE:1
SUMMARY:Lirekassen JUL
TRANSP:OPAQUE
URL:https://www.skovpavillonen-assens.dk/test-kalender/184-lirekasse-jul/20
 26-11-21-10-00
END:VEVENT
END:VCALENDAR
