BEGIN:VCALENDAR
VERSION:2.0
PRODID:-//Skovpavillonen//NONSGML kigkonsult.se iCalcreator 2.30.10//
CALSCALE:GREGORIAN
METHOD:PUBLISH
UID:72d561d9-160f-4fb0-9db9-4a862584e1d7
X-WR-CALNAME:iCagenda
X-WR-CALDESC:Event Management Extension for Joomla!
X-WR-RELCALID:3E26604A-50F4-4449-8B3E-E4F4932D05B5
X-WR-TIMEZONE:UTC
BEGIN:VTIMEZONE
TZID:UTC
END:VTIMEZONE
BEGIN:VEVENT
UID:6da7a866-4432-4f59-96d1-567a0ea54a89
DTSTAMP:20260419T133630Z
CATEGORIES:Skovens arrangement
CLASS:PUBLIC
DESCRIPTION:
DTSTART:20260623T100300Z
DTEND:20260623T100300Z
GEO:00;0
LOCATION:
ORGANIZER:
SEQUENCE:1
SUMMARY:Skt. Hans
TRANSP:OPAQUE
URL:https://www.skovpavillonen-assens.dk/test-kalender/185-skt-hans
END:VEVENT
END:VCALENDAR
