BEGIN:VCALENDAR
VERSION:2.0
PRODID:-//Skovpavillonen//NONSGML kigkonsult.se iCalcreator 2.30.10//
CALSCALE:GREGORIAN
METHOD:PUBLISH
UID:b9a476d1-0d6b-4489-be81-54c35cb61d46
X-WR-CALNAME:iCagenda
X-WR-CALDESC:Event Management Extension for Joomla!
X-WR-RELCALID:3E26604A-50F4-4449-8B3E-E4F4932D05B5
X-WR-TIMEZONE:UTC
BEGIN:VTIMEZONE
TZID:UTC
END:VTIMEZONE
BEGIN:VEVENT
UID:4592fa79-239b-443f-9b5a-f536619df629
DTSTAMP:20260419T134452Z
CATEGORIES:Arrangement
CLASS:PUBLIC
DESCRIPTION;ALTREP="CID:<FFFF__=0ABBE548DFE235B58f9e8a93d@coffeebean.com>":
 Vi gentager den hyggelige tradition
DTSTART:20260819T100500Z
DTEND:20260819T235900Z
GEO:00;0
LOCATION:
ORGANIZER:
SEQUENCE:1
SUMMARY:Sang under bøgetræerne
TRANSP:OPAQUE
URL:https://www.skovpavillonen-assens.dk/test-kalender/186-sang-under-boget
 rae
END:VEVENT
END:VCALENDAR
