BEGIN:VCALENDAR
VERSION:2.0
PRODID:-//Skovpavillonen//NONSGML kigkonsult.se iCalcreator 2.30.10//
CALSCALE:GREGORIAN
METHOD:PUBLISH
UID:f940f1b6-fa56-498e-a044-a855ac79a87b
X-WR-CALNAME:iCagenda
X-WR-CALDESC:Event Management Extension for Joomla!
X-WR-RELCALID:3E26604A-50F4-4449-8B3E-E4F4932D05B5
X-WR-TIMEZONE:UTC
BEGIN:VTIMEZONE
TZID:UTC
END:VTIMEZONE
BEGIN:VEVENT
UID:ab5bdbf1-546a-4da7-b25d-c1487ff6b27f
DTSTAMP:20260419T133002Z
CATEGORIES:Skovens arrangement
CLASS:PUBLIC
DESCRIPTION:
DTSTART:20260927T171000Z
DTEND:20260927T190000Z
GEO:00;0
LOCATION:
ORGANIZER:
SEQUENCE:1
SUMMARY:Thorø huse spillemænd
TRANSP:OPAQUE
URL:https://www.skovpavillonen-assens.dk/test-kalender/199-thoro-huse-spill
 emaend/2026-09-27-17-10
END:VEVENT
END:VCALENDAR
