BEGIN:VCALENDAR
VERSION:2.0
PRODID:-//Skovpavillonen//NONSGML kigkonsult.se iCalcreator 2.30.10//
CALSCALE:GREGORIAN
METHOD:PUBLISH
UID:ebd1fd75-ff81-4183-91d6-c948dde9dda8
X-WR-CALNAME:iCagenda
X-WR-CALDESC:Event Management Extension for Joomla!
X-WR-RELCALID:3E26604A-50F4-4449-8B3E-E4F4932D05B5
X-WR-TIMEZONE:UTC
BEGIN:VTIMEZONE
TZID:UTC
END:VTIMEZONE
BEGIN:VEVENT
UID:71dcc9df-a7aa-4eb2-b6bb-9c3e16764e3a
DTSTAMP:20260419T132742Z
CATEGORIES:Arrangement
CLASS:PUBLIC
DESCRIPTION:
DTSTART:20260613T171900Z
DTEND:20260614T171900Z
GEO:00;0
LOCATION:
ORGANIZER:
SEQUENCE:1
SUMMARY:Lirekassen forår
TRANSP:OPAQUE
URL:https://www.skovpavillonen-assens.dk/test-kalender/201-lirekassen-forar
 -2
END:VEVENT
END:VCALENDAR
