BEGIN:VCALENDAR
VERSION:2.0
PRODID:-//Skovpavillonen//NONSGML kigkonsult.se iCalcreator 2.30.10//
CALSCALE:GREGORIAN
METHOD:PUBLISH
UID:db584622-0e12-40a6-9e8a-305be9575f56
X-WR-CALNAME:iCagenda
X-WR-CALDESC:Event Management Extension for Joomla!
X-WR-RELCALID:3E26604A-50F4-4449-8B3E-E4F4932D05B5
X-WR-TIMEZONE:UTC
BEGIN:VTIMEZONE
TZID:UTC
END:VTIMEZONE
BEGIN:VEVENT
UID:9b8bd267-ffde-4e90-ab68-5a9ac1a17d71
DTSTAMP:20260419T132742Z
CATEGORIES:Skovens arrangement
CLASS:PUBLIC
DESCRIPTION:
DTSTART:20261031T172400Z
DTEND:20261031T230000Z
GEO:00;0
LOCATION:
ORGANIZER:
SEQUENCE:1
SUMMARY:Halloween
TRANSP:OPAQUE
URL:https://www.skovpavillonen-assens.dk/test-kalender/202-halloween-3/2026
 -10-31-17-24
END:VEVENT
END:VCALENDAR
