BEGIN:VCALENDAR
VERSION:2.0
PRODID:-//Skovpavillonen//NONSGML kigkonsult.se iCalcreator 2.30.10//
CALSCALE:GREGORIAN
METHOD:PUBLISH
UID:282da35a-2c98-408e-9072-d331ecc5449b
X-WR-CALNAME:iCagenda
X-WR-CALDESC:Event Management Extension for Joomla!
X-WR-RELCALID:3E26604A-50F4-4449-8B3E-E4F4932D05B5
X-WR-TIMEZONE:UTC
BEGIN:VTIMEZONE
TZID:UTC
END:VTIMEZONE
BEGIN:VEVENT
UID:38d464cb-edf4-46fd-99e8-eff3adf68b3a
DTSTAMP:20260419T133211Z
CATEGORIES:Skovens arrangement
CLASS:PUBLIC
DESCRIPTION:
DTSTART:20260426T085700Z
DTEND:20260426T085800Z
GEO:00;0
LOCATION:
ORGANIZER:
SEQUENCE:1
SUMMARY:Rengøring
TRANSP:OPAQUE
URL:https://www.skovpavillonen-assens.dk/test-kalender/208-rengoring-2/2026
 -04-26-08-57
END:VEVENT
END:VCALENDAR
