BEGIN:VCALENDAR
VERSION:2.0
PRODID:-//Skovpavillonen//NONSGML kigkonsult.se iCalcreator 2.30.10//
CALSCALE:GREGORIAN
METHOD:PUBLISH
UID:5d5432ed-9934-44b7-b0d8-622f38dc33e2
X-WR-CALNAME:iCagenda
X-WR-CALDESC:Event Management Extension for Joomla!
X-WR-RELCALID:3E26604A-50F4-4449-8B3E-E4F4932D05B5
X-WR-TIMEZONE:UTC
BEGIN:VTIMEZONE
TZID:UTC
END:VTIMEZONE
BEGIN:VEVENT
UID:291bdcec-946e-43a5-badb-91609405fbb7
DTSTAMP:20260419T134101Z
CATEGORIES:Arrangement
CLASS:PUBLIC
DESCRIPTION;ALTREP="CID:<FFFF__=0ABBE548DFE235B58f9e8a93d@coffeebean.com>":
 Klarsyn Ole Hat (Haven)
DTSTART:20260521T171300Z
DTEND:20260521T171400Z
GEO:00;0
LOCATION:Skoven udenfor
ORGANIZER:
SEQUENCE:1
SUMMARY:Klarsyn
TRANSP:OPAQUE
URL:https://www.skovpavillonen-assens.dk/test-kalender/215-klarsyn
END:VEVENT
END:VCALENDAR
