BEGIN:VCALENDAR
VERSION:2.0
PRODID:-//Skovpavillonen//NONSGML kigkonsult.se iCalcreator 2.30.10//
CALSCALE:GREGORIAN
METHOD:PUBLISH
UID:1da62433-1f1a-41fc-9454-b4dda567b57a
X-WR-CALNAME:iCagenda
X-WR-CALDESC:Event Management Extension for Joomla!
X-WR-RELCALID:3E26604A-50F4-4449-8B3E-E4F4932D05B5
X-WR-TIMEZONE:UTC
BEGIN:VTIMEZONE
TZID:UTC
END:VTIMEZONE
BEGIN:VEVENT
UID:b3b05fba-8bfb-4ed5-96be-a7a2bc394d3a
DTSTAMP:20260419T133804Z
CATEGORIES:Arrangement
CLASS:PUBLIC
DESCRIPTION:
DTSTART:20260430T131500Z
DTEND:20260430T131500Z
GEO:00;0
LOCATION:
ORGANIZER:
SEQUENCE:1
SUMMARY:Vestfynskoret-Hvededagskoncert
TRANSP:OPAQUE
URL:https://www.skovpavillonen-assens.dk/test-kalender/221-vestfynskoret-hv
 ededagskoncert/2026-04-30-13-15
END:VEVENT
END:VCALENDAR
