BEGIN:VCALENDAR
VERSION:2.0
PRODID:-//Skovpavillonen//NONSGML kigkonsult.se iCalcreator 2.30.10//
CALSCALE:GREGORIAN
METHOD:PUBLISH
UID:d2ac31ed-da47-42f0-a4d7-f52f04f4b0e8
X-WR-CALNAME:iCagenda
X-WR-CALDESC:Event Management Extension for Joomla!
X-WR-RELCALID:3E26604A-50F4-4449-8B3E-E4F4932D05B5
X-WR-TIMEZONE:UTC
BEGIN:VTIMEZONE
TZID:UTC
END:VTIMEZONE
BEGIN:VEVENT
UID:34a43c6d-d26b-4fe2-b8d8-403531134b9d
DTSTAMP:20260419T133535Z
CATEGORIES:Arrangement
CLASS:PUBLIC
DESCRIPTION:
DTSTART:20260501T163100Z
DTEND:20260501T163200Z
GEO:00;0
LOCATION:
ORGANIZER:
SEQUENCE:1
SUMMARY:1. Maj 2026
TRANSP:OPAQUE
URL:https://www.skovpavillonen-assens.dk/test-kalender/59-1-maj-2026/2026-0
 5-01-16-31
END:VEVENT
END:VCALENDAR
